BEGIN:VCALENDAR
VERSION:2.0
PRODID:-//Kohan Reflection Garden - ECPv6.15.20//NONSGML v1.0//EN
CALSCALE:GREGORIAN
METHOD:PUBLISH
X-ORIGINAL-URL:https://kohanreflectiongarden.ca
X-WR-CALDESC:Events for Kohan Reflection Garden
REFRESH-INTERVAL;VALUE=DURATION:PT1H
X-Robots-Tag:noindex
X-PUBLISHED-TTL:PT1H
BEGIN:VTIMEZONE
TZID:UTC
BEGIN:STANDARD
TZOFFSETFROM:+0000
TZOFFSETTO:+0000
TZNAME:UTC
DTSTART:20210101T000000
END:STANDARD
END:VTIMEZONE
BEGIN:VEVENT
DTSTART;TZID=UTC:20220904T130000
DTEND;TZID=UTC:20220904T150000
DTSTAMP:20260424T011910
CREATED:20220830T020416Z
LAST-MODIFIED:20220830T020416Z
UID:2232-1662296400-1662303600@kohanreflectiongarden.ca
SUMMARY:Fiddle Dee Dee Concert
DESCRIPTION:Waltzes\, jigs and reels will ring through the Kohan Garden as Fiddle Dee Dee play two lively sets to benefit the Kohan Reflection Garden Endowment Fund. \nCome to enjoy the music and to learn about the ways to support the Garden into the future. \nBring your cheque book or a donation of any size. We’ll have light refreshments and some chairs available
URL:https://kohanreflectiongarden.ca/event/fiddle-dee-dee-concert/
LOCATION:Kohan Reflection Garden\, 217 - 1st Avenue\, New Denver\, British Columbia\, V0G 1S0\, Canada
CATEGORIES:Concert
END:VEVENT
END:VCALENDAR